BEGIN:VCALENDAR
VERSION:2.0
PRODID:-//wp-events-plugin.com//7.2.3.1//EN
TZID:America/Sao_Paulo
X-WR-TIMEZONE:America/Sao_Paulo
BEGIN:VEVENT
UID:13933@trilhaselugares.com
DTSTART:20260423T170000Z
DTEND:20260423T210000Z
DTSTAMP:20230121T232851Z
URL:https://trilhaselugares.com/events/feira-do-produtor-em-goioere-2026-0
 4-23/
SUMMARY:Feira do produtor em Goioerê
DESCRIPTION:As feiras já são um atrativo importante nas cidades da regiã
 o de Campo Mourão há vários anos fazendo parte da cultura dos moradores
  locais. Produtos de qualidade\, fresquinhos e com a garantia do produtor.
  Temos ao menos mais de 20 feiras livres semanais nas nossas cidades. Sepa
 ramos no link abaixo uma lista com as mais conhecidas.\n\n 	Saiba mais sob
 re as feiras do produtor da região de Campo Mourão\n\nOnde é a feira?\n
 Semanalmente ocorrem três feiras na cidade. Nelas são ofertados os tradi
 cionais espetinhos\, pastéis e hortifrúti vindos direto dos produtores r
 urais do município.\n\n 	No domingo ao lado do correios\;\n 	Nas terças 
 e sábado próximo ao ginásio de esportes 10 de Agosto (Av. 19 de Agosto)
 \;\n 	Nas quintas\, na praça do jardim Curitiba.\n\nSempre verifique se 
 a feira realmente irá ocorrer. Podem ocorrer alterações nos dias e hor
 ários dependendo das decisões dos participantes/organizadores das feiras
 .\n\n[caption id="attachment_210" align="aligncenter" width="595"] Feira e
 m Goioerê[/caption]\n\nSugestões? Críticas? Comente aqui em baixo ou no
 s envie um e-mail: contato@trilhaselugares.com
ATTACH;FMTTYPE=image/jpeg:https://i0.wp.com/trilhaselugares.com/wp-content
 /uploads/2016/11/feira-goioere.jpg?fit=640%2C424&ssl=1
CATEGORIES:Feira do Produtor
END:VEVENT
END:VCALENDAR