BEGIN:VCALENDAR
VERSION:2.0
PRODID:-//wp-events-plugin.com//7.2.3.1//EN
TZID:America/Sao_Paulo
X-WR-TIMEZONE:America/Sao_Paulo
BEGIN:VEVENT
UID:8102@trilhaselugares.com
DTSTART:20260424T170000Z
DTEND:20260424T210000Z
DTSTAMP:20180211T203532Z
URL:https://trilhaselugares.com/events/feira-do-produtor-em-campo-mourao-j
 ardim-tropical-i-2026-04-24/
SUMMARY:Feira do produtor em Campo Mourão-Jardim tropical I
DESCRIPTION:As feiras já são um atrativo importante nas cidades da regiã
 o de Campo Mourão há vários anos fazendo parte da cultura dos moradores
  locais. Produtos de qualidade\, fresquinhos e com a garantia do produtor.
  Temos ao menos mais de 20 feiras livres semanais nas nossas cidades. Sepa
 ramos no link abaixo uma lista com as mais conhecidas.\n\n 	Saiba mais sob
 re as feiras do produtor da região de Campo Mourão\n\nSempre confirme s
 e a feira realmente irá ocorrer. Podem ocorrer alterações nos dias e ho
 rários dependendo das decisões dos participantes/organizadores das feira
 s.
CATEGORIES:Feira do Produtor
LOCATION:Jardim tropical I\, Jardim tropical I - Próximo a Praça do Japã
 o\, Campo Mourão\, Paraná\, Brasil
GEO:-24.0436553;-52.378109800000004
X-APPLE-STRUCTURED-LOCATION;VALUE=URI;X-ADDRESS=Jardim tropical I - Próxim
 o a Praça do Japão\, Campo Mourão\, Paraná\, Brasil;X-APPLE-RADIUS=100
 ;X-TITLE=Jardim tropical I:geo:-24.0436553,-52.378109800000004
END:VEVENT
END:VCALENDAR