BEGIN:VCALENDAR
VERSION:2.0
PRODID:-//wp-events-plugin.com//7.2.3.1//EN
TZID:America/Sao_Paulo
X-WR-TIMEZONE:America/Sao_Paulo
BEGIN:VEVENT
UID:8671@trilhaselugares.com
DTSTART:20260425T170000Z
DTEND:20260425T210000Z
DTSTAMP:20230121T233214Z
URL:https://trilhaselugares.com/events/feira-do-produtor-em-campo-mourao-j
 ardim-cohapar-2026-04-25/
SUMMARY:Feira do produtor em Campo Mourão-Jardim Cohapar
DESCRIPTION:Foto em destaque: Degustação e feira criativa em Campo Mourã
 o. Foto: Assessoria de imprensa\n\nAs feiras já são um atrativo importan
 te nas cidades da região de Campo Mourão há vários anos fazendo parte 
 da cultura dos moradores locais. Produtos de qualidade\, fresquinhos e com
  a garantia do produtor. Temos ao menos mais de 20 feiras livres semanais 
 nas nossas cidades. Separamos no link abaixo uma lista com as mais conheci
 das.\n\n 	Saiba mais sobre as feiras do produtor da região de Campo Mour
 ão\n\nSempre confirme se a feira realmente irá ocorrer. Podem ocorrer a
 lterações nos dias e horários dependendo das decisões dos participante
 s/organizadores das feiras.
ATTACH;FMTTYPE=image/jpeg:https://i0.wp.com/trilhaselugares.com/wp-content
 /uploads/2018/07/DEGUSTA%C3%87%C3%83O-CARNEIRO-NO-BURACO-29.jpg?fit=1024%2
 C683&ssl=1
CATEGORIES:Feira do Produtor
LOCATION:Jardim Cohapar\, Av. Pres. John Kennedy\, Campo Mourão\, Paraná\
 , Brasil
GEO:-24.05771142639712;-52.41664356508181
X-APPLE-STRUCTURED-LOCATION;VALUE=URI;X-ADDRESS=Av. Pres. John Kennedy\, Ca
 mpo Mourão\, Paraná\, Brasil;X-APPLE-RADIUS=100;X-TITLE=Jardim Cohapar:g
 eo:-24.05771142639712,-52.41664356508181
END:VEVENT
END:VCALENDAR