BEGIN:VCALENDAR
VERSION:2.0
PRODID:-//wp-events-plugin.com//7.2.3.1//EN
TZID:America/Sao_Paulo
X-WR-TIMEZONE:America/Sao_Paulo
BEGIN:VEVENT
UID:10952@trilhaselugares.com
DTSTART;VALUE=DATE:20260424
DTEND;VALUE=DATE:20260425
DTSTAMP:20230121T232753Z
URL:https://trilhaselugares.com/events/feira-do-produtor-em-campina-da-lag
 oa-2026-04-24/
SUMMARY:Feira do produtor em Campina da Lagoa
DESCRIPTION:As feiras já são um atrativo importante nas cidades da regiã
 o de Campo Mourão há vários anos fazendo parte da cultura dos moradores
  locais. Produtos de qualidade\, fresquinhos e com a garantia do produtor.
  Temos ao menos mais de 20 feiras livres semanais nas nossas cidades. Sepa
 ramos no link abaixo uma lista com as mais conhecidas.\n\n 	Saiba mais sob
 re as feiras do produtor da região de Campo Mourão\n\nSempre verifique 
 se a feira realmente irá ocorrer. Podem ocorrer alterações nos dias e h
 orários dependendo das decisões dos participantes/organizadores das feir
 as.\n\n\n\nSugestões? Críticas? Comente aqui em baixo ou nos envie um e-
 mail: contato@trilhaselugares.com
ATTACH;FMTTYPE=image/jpeg:https://i0.wp.com/trilhaselugares.com/wp-content
 /uploads/2017/07/Caminhada-de-campina-da-lagoa-emater-2.jpg?fit=1024%2C678
 &ssl=1
CATEGORIES:Feira do Produtor
LOCATION:Feira do produtor\, R. Ver. Homero Franco\, 494\, Campina da Lagoa
 \, Paraná\, Brasil
GEO:-24.5906891;-52.801032299999974
X-APPLE-STRUCTURED-LOCATION;VALUE=URI;X-ADDRESS=R. Ver. Homero Franco\, 494
 \, Campina da Lagoa\, Paraná\, Brasil;X-APPLE-RADIUS=100;X-TITLE=Feira do
  produtor:geo:-24.5906891,-52.801032299999974
END:VEVENT
END:VCALENDAR